BEGIN:VCALENDAR
VERSION:2.0
PRODID:-//Reynerie Miroir - ECPv6.15.20//NONSGML v1.0//EN
CALSCALE:GREGORIAN
METHOD:PUBLISH
X-WR-CALNAME:Reynerie Miroir
X-ORIGINAL-URL:https://reynerie-miroir.net
X-WR-CALDESC:Évènements pour Reynerie Miroir
REFRESH-INTERVAL;VALUE=DURATION:PT1H
X-Robots-Tag:noindex
X-PUBLISHED-TTL:PT1H
BEGIN:VTIMEZONE
TZID:Europe/Paris
BEGIN:DAYLIGHT
TZOFFSETFROM:+0100
TZOFFSETTO:+0200
TZNAME:CEST
DTSTART:20250330T010000
END:DAYLIGHT
BEGIN:STANDARD
TZOFFSETFROM:+0200
TZOFFSETTO:+0100
TZNAME:CET
DTSTART:20251026T010000
END:STANDARD
BEGIN:DAYLIGHT
TZOFFSETFROM:+0100
TZOFFSETTO:+0200
TZNAME:CEST
DTSTART:20260329T010000
END:DAYLIGHT
BEGIN:STANDARD
TZOFFSETFROM:+0200
TZOFFSETTO:+0100
TZNAME:CET
DTSTART:20261025T010000
END:STANDARD
BEGIN:DAYLIGHT
TZOFFSETFROM:+0100
TZOFFSETTO:+0200
TZNAME:CEST
DTSTART:20270328T010000
END:DAYLIGHT
BEGIN:STANDARD
TZOFFSETFROM:+0200
TZOFFSETTO:+0100
TZNAME:CET
DTSTART:20271031T010000
END:STANDARD
END:VTIMEZONE
BEGIN:VEVENT
DTSTART;TZID=Europe/Paris:20260423T100000
DTEND;TZID=Europe/Paris:20260424T170000
DTSTAMP:20260423T121909
CREATED:20260412T121616Z
LAST-MODIFIED:20260412T121623Z
UID:11709-1776938400-1777050000@reynerie-miroir.net
SUMMARY:Le labyrinthe / jeune public
DESCRIPTION:Jeune public / Installation poétique pour le jeu\, la rêverie et la lecture / Cie les Bricoleuses / Dans le cadre du festival Mes Poissons d’avril / Dès 9 mois \n\n\n\nUn grand labyrinthe à explorer\, rempli de coin et de recoins où jouer\, lire\, rêver. Il existe de nombreuses manières d’y entrer\, d’y cheminer\, d’en sortir. Ses ouvertures ont été construites à différentes échelles : celle d’un bébé\, d’un enfant\, d’un adulte. Des albums en sortent de partout\, à hauteur d’enfant. \n\n\n\nConception Aude Seban avec la complicité de Kantuta Varlet \n\n\n\nAccès libre\n\n\n\nJeudi 23 – 10:00 – 12:30  \n\n\n\nJeudi 23 – 13:30 – 17:00  \n\n\n\nVendredi 24 – 13:30 – 17:00
URL:https://reynerie-miroir.net/event/le-labyrinthe-jeune-public/
LOCATION:Centre culturel de quartier Reynerie\, 1 place Conchita Grangé-Ramos\, Toulouse\, 31100\, France
CATEGORIES:Animation,Jeune public
ATTACH;FMTTYPE=image/webp:https://reynerie-miroir.net/wp-content/uploads/2026/04/lab.webp
END:VEVENT
BEGIN:VEVENT
DTSTART;TZID=Europe/Paris:20260423T120000
DTEND;TZID=Europe/Paris:20260423T140000
DTSTAMP:20260423T121909
CREATED:20260420T162400Z
LAST-MODIFIED:20260420T162444Z
UID:11772-1776945600-1776952800@reynerie-miroir.net
SUMMARY:Repas-débat à TO7 / « Les mots de l’Astronomie »
DESCRIPTION:
URL:https://reynerie-miroir.net/event/repas-debat-a-to7-les-mots-de-lastronomie/
LOCATION:TO7\, 4 bis cheminement Cambert\, Toulouse\, France
CATEGORIES:Débat,repas,Sciences
ATTACH;FMTTYPE=image/png:https://reynerie-miroir.net/wp-content/uploads/2025/03/TO7.png
END:VEVENT
BEGIN:VEVENT
DTSTART;TZID=Europe/Paris:20260423T140000
DTEND;TZID=Europe/Paris:20260424T140000
DTSTAMP:20260423T121909
CREATED:20260402T153219Z
LAST-MODIFIED:20260402T153633Z
UID:11639-1776952800-1777039200@reynerie-miroir.net
SUMMARY:Courts-métrages Festival des Cinémas Indiens de Toulouse
DESCRIPTION:Jeudi 23 avril – 14hVendredi 24 avril – 14hLa compétition de courts-métrages devient ASIA CONNEXION\, une sélection\, qui\, au-delà de l’Inde\, s’ouvre aux productions de tout le continent asiatique. Hong-Kong\, Japon\, Corée du Sud\, Taïwan… rejoignent l’Inde.Venez découvrir les réalisateurs et réalisatrices de demain et votez pour le prix du public 2026.Plus d’infos sur toulouseindianfilmfestival.comMédiathèque Grand MDurée : 2h30
URL:https://reynerie-miroir.net/event/courts-metrages-festival-des-cinemas-indiens-de-toulouse/
LOCATION:Médiathèque Grand M\, 37 avenue de Reynerie\, toulouse\, 31100\, France
CATEGORIES:Cinéma
ATTACH;FMTTYPE=image/jpeg:https://reynerie-miroir.net/wp-content/uploads/2026/04/inde.jpg
END:VEVENT
BEGIN:VEVENT
DTSTART;TZID=Europe/Paris:20260423T190000
DTEND;TZID=Europe/Paris:20260423T200000
DTSTAMP:20260423T121909
CREATED:20260419T151444Z
LAST-MODIFIED:20260419T151452Z
UID:11743-1776970800-1776974400@reynerie-miroir.net
SUMMARY:Théâtre gestuel\, accordéon et marionnettes / Val et la machine à histoires
DESCRIPTION:Théâtre gestuel\, accordéon et marionnettes – Compagnie L’Art vagabond – En partenariat avec la MJC Prévert \n\n\n\nValentina a hérité d’une machine extraordinaire\, la machine à écouter et raconter des histoires. Mais il y a un problème… la machine tombe souvent en panne ! Déterminée à réparer ce trésor\, Val\, accompagnée de sa valise Apolline\, se lance dans une aventure où les marionnettes viendront donner vie à des récits remplis de surprises\, de mystères et des personnages étonnants. \n\n\n\nInterprétation : Cléa Mitjans et Elsa Lièvre \n\n\n\nEntrée libre dans la limite des places disponibles
URL:https://reynerie-miroir.net/event/theatre-gestuel-accordeon-et-marionnettes-val-et-la-machine-a-histoires/
LOCATION:Centre culturel Henri Desbals\, 128 rue Henri-Desbals\, Toulouse\, 31100\, France
CATEGORIES:théatre
ATTACH;FMTTYPE=image/webp:https://reynerie-miroir.net/wp-content/uploads/2026/04/val.webp
END:VEVENT
END:VCALENDAR