BEGIN:VCALENDAR
VERSION:2.0
PRODID:-//Reynerie Miroir - ECPv6.15.20//NONSGML v1.0//EN
CALSCALE:GREGORIAN
METHOD:PUBLISH
X-WR-CALNAME:Reynerie Miroir
X-ORIGINAL-URL:https://reynerie-miroir.net
X-WR-CALDESC:Évènements pour Reynerie Miroir
REFRESH-INTERVAL;VALUE=DURATION:PT1H
X-Robots-Tag:noindex
X-PUBLISHED-TTL:PT1H
BEGIN:VTIMEZONE
TZID:Europe/Paris
BEGIN:DAYLIGHT
TZOFFSETFROM:+0100
TZOFFSETTO:+0200
TZNAME:CEST
DTSTART:20250330T010000
END:DAYLIGHT
BEGIN:STANDARD
TZOFFSETFROM:+0200
TZOFFSETTO:+0100
TZNAME:CET
DTSTART:20251026T010000
END:STANDARD
BEGIN:DAYLIGHT
TZOFFSETFROM:+0100
TZOFFSETTO:+0200
TZNAME:CEST
DTSTART:20260329T010000
END:DAYLIGHT
BEGIN:STANDARD
TZOFFSETFROM:+0200
TZOFFSETTO:+0100
TZNAME:CET
DTSTART:20261025T010000
END:STANDARD
BEGIN:DAYLIGHT
TZOFFSETFROM:+0100
TZOFFSETTO:+0200
TZNAME:CEST
DTSTART:20270328T010000
END:DAYLIGHT
BEGIN:STANDARD
TZOFFSETFROM:+0200
TZOFFSETTO:+0100
TZNAME:CET
DTSTART:20271031T010000
END:STANDARD
END:VTIMEZONE
BEGIN:VEVENT
DTSTART;TZID=Europe/Paris:20260422T140000
DTEND;TZID=Europe/Paris:20260422T170000
DTSTAMP:20260422T122150
CREATED:20260420T163600Z
LAST-MODIFIED:20260420T163608Z
UID:11775-1776866400-1776877200@reynerie-miroir.net
SUMMARY:Animations nature au parc Monlong
DESCRIPTION:Le mercredi 22 avril  sera l’occasion de découvrir un écrin d’histoire et de nature dans le quartier de Bellefontaine\, au pied de l’incinérateur du Mirail\, à la croisée du chemin de Perpignan \n\n\n\nLe matin\, ateliers boutures avec EDENN et La Milpa \n\n\n\nDe 14 à 16h30 découvertes nature et jardin : \n\n\n\n– Sources exploitées depuis l’antiquité \n\n\n\n– écosystèmes rares\, surtout en ville \n\n\n\n– pêche aux petites bêtes de l’eau \n\n\n\n– ateliers art et nature \n\n\n\n– semis et plantation \n\n\n\nGoûter Maison offert \n\n\n\nVenez avec vos enfants ! \n\n\n\nMerci de partager avec vos adhérents\, amis et voisins
URL:https://reynerie-miroir.net/event/animations-nature-au-parc-monlong/
CATEGORIES:Animation,Environnement
ATTACH;FMTTYPE=image/jpeg:https://reynerie-miroir.net/wp-content/uploads/2026/04/Monlong.jpg
END:VEVENT
END:VCALENDAR